{
 "version": 1.0,
 "tileBundlesPath": "./tile",
 "storageInfo": {
  "packetSize": 128,
  "storageFormat": "esriMapCacheStorageModeCompactV2"
 },
 "tileImageInfo": {
  "format": "PNG32",
  "compressionQuality": 0,
  "bandCount": 1,
  "lercError": 0
 },
 "tileInfo": {
  "spatialReference": {
   "wkid": 102139,
   "latestWkid": 3067
  },
  "origin": {
   "x": -548576,
   "y": 8388608
  },
  "rows": 256,
  "cols": 256,
  "dpi": 96,
  "lods": [
   {
    "level": 0,
    "resolution": 8192,
    "scale": 3.096182784E7
   },
   {
    "level": 1,
    "resolution": 4096,
    "scale": 1.548091392E7
   },
   {
    "level": 2,
    "resolution": 2048,
    "scale": 7740456.96
   },
   {
    "level": 3,
    "resolution": 1024,
    "scale": 3870228.48
   },
   {
    "level": 4,
    "resolution": 512,
    "scale": 1935114.24
   },
   {
    "level": 5,
    "resolution": 256,
    "scale": 967557.12
   },
   {
    "level": 6,
    "resolution": 128,
    "scale": 483778.56
   },
   {
    "level": 7,
    "resolution": 64,
    "scale": 241889.28
   },
   {
    "level": 8,
    "resolution": 32,
    "scale": 120944.64
   },
   {
    "level": 9,
    "resolution": 16,
    "scale": 60472.32
   },
   {
    "level": 10,
    "resolution": 8,
    "scale": 30236.16
   },
   {
    "level": 11,
    "resolution": 4,
    "scale": 15118.08
   },
   {
    "level": 12,
    "resolution": 2,
    "scale": 7559.04
   },
   {
    "level": 13,
    "resolution": 1,
    "scale": 3779.52
   },
   {
    "level": 14,
    "resolution": 0.5,
    "scale": 1889.76
   },
   {
    "level": 15,
    "resolution": 0.25,
    "scale": 944.88
   }
  ],
  "format": "PNG32",
  "compressionQuality": 0,
  "bandCount": 1,
  "lercError": 0,
  "storageFormat": "esriMapCacheStorageModeCompactV2",
  "packetSize": 128
 },
 "name": "Taustakartta",
 "serviceDescription": "",
 "spatialReference": {
  "wkid": 102139,
  "latestWkid": 3067,
  "xyTolerance": 0.001,
  "zTolerance": 0.001,
  "mTolerance": 0.001,
  "falseX": -5120900,
  "falseY": -9998100,
  "xyUnits": 10000,
  "falseZ": -100000,
  "zUnits": 10000,
  "falseM": -100000,
  "mUnits": 10000
 },
 "units": "esriMeters",
 "minLOD": 0,
 "maxLOD": 15,
 "resampling": true,
 "layers": [
  {
   "id": 0,
   "name": "taustakartta",
   "parentLayerId": -1,
   "defaultVisibility": true,
   "subLayerIds": null,
   "minScale": 0,
   "maxScale": 0,
   "type": "Raster Layer",
   "supportsDynamicLegends": true,
   "legend": [
    {
     "label": "Red: Band_1",
     "imageData": "iVBORw0KGgoAAAANSUhEUgAAABQAAAAUCAYAAACNiR0NAAAACXBIWXMAAA7EAAAOxAGVKw4bAAAAMUlEQVQ4jWNhoDJgoZmB/xkY/lNiECMDAyOKgdQCowaOGjhq4KiBdDYQVp5RzUBqAQBgfwJTXu298gAAAABJRU5ErkJggg==",
     "contentType": "image/png",
     "groupId": "0",
     "height": 20,
     "width": 20,
     "layerId": 0,
     "layerName": "taustakartta"
    },
    {
     "label": "Green: Band_2",
     "imageData": "iVBORw0KGgoAAAANSUhEUgAAABQAAAAUCAYAAACNiR0NAAAACXBIWXMAAA7EAAAOxAGVKw4bAAAAL0lEQVQ4jWNhoDJgoZ2B/xn+U2QSIwMjqoFUAqMGjho4auCogfQ2EFqeUc9AKgEAX34CUy+sLnAAAAAASUVORK5CYII=",
     "contentType": "image/png",
     "groupId": "0",
     "height": 20,
     "width": 20,
     "layerId": 0,
     "layerName": "taustakartta"
    },
    {
     "label": "Blue: Band_3",
     "imageData": "iVBORw0KGgoAAAANSUhEUgAAABQAAAAUCAYAAACNiR0NAAAACXBIWXMAAA7EAAAOxAGVKw4bAAAALUlEQVQ4jWNhoDJgoaGB//9TZhQjI5qB1AGjBo4aOGrgqIF0NxBSnlHRQOoAAF59AlNvIrzVAAAAAElFTkSuQmCC",
     "contentType": "image/png",
     "groupId": "0",
     "height": 20,
     "width": 20,
     "layerId": 0,
     "layerName": "taustakartta"
    }
   ],
   "layerId": 0,
   "layerName": "taustakartta",
   "serviceItemId": "6451633a5e234efda0797b4663b70b2d"
  }
 ],
 "initialExtent": {
  "xmin": 20000,
  "ymin": 6570000,
  "xmax": 740896,
  "ymax": 7819280,
  "spatialReference": {
   "wkid": 102139,
   "latestWkid": 3067,
   "xyTolerance": 0.001,
   "zTolerance": 0.001,
   "mTolerance": 0.001,
   "falseX": -5120900,
   "falseY": -9998100,
   "xyUnits": 10000,
   "falseZ": -100000,
   "zUnits": 10000,
   "falseM": -100000,
   "mUnits": 10000
  }
 },
 "fullExtent": {
  "xmin": 20000,
  "ymin": 6570000,
  "xmax": 740896,
  "ymax": 7819280,
  "spatialReference": {
   "wkid": 102139,
   "latestWkid": 3067,
   "xyTolerance": 0.001,
   "zTolerance": 0.001,
   "mTolerance": 0.001,
   "falseX": -5120900,
   "falseY": -9998100,
   "xyUnits": 10000,
   "falseZ": -100000,
   "zUnits": 10000,
   "falseM": -100000,
   "mUnits": 10000
  }
 },
 "minScale": 3.096182784E7,
 "maxScale": 944.88,
 "exportTilesAllowed": false,
 "maxExportTilesCount": 0,
 "currentVersion": 10.91,
 "mapName": "Taustakartta",
 "singleFusedMapCache": true,
 "type": "MapServer",
 "supportedExtensions": "",
 "capabilities": "TilesOnly,Tilemap",
 "serviceItemId": "6451633a5e234efda0797b4663b70b2d"
}
