{
 "currentVersion": 11.3,
 "cimVersion": "3.3.0",
 "serviceDescription": "",
 "mapName": "Ilmakuvat",
 "description": "",
 "copyrightText": "",
 "supportsDynamicLayers": false,
 "layers": [
  {
   "id": 0,
   "name": "Ilmakuvat",
   "parentLayerId": -1,
   "defaultVisibility": true,
   "subLayerIds": null,
   "minScale": 0,
   "maxScale": 15,
   "type": "Feature Layer",
   "geometryType": "esriGeometryPolygon",
   "supportsDynamicLegends": true
  }
 ],
 "tables": [],
 "spatialReference": {
  "wkid": 102139,
  "latestWkid": 3067,
  "xyTolerance": 0.001,
  "zTolerance": 0.001,
  "mTolerance": 0.001,
  "falseX": -5120900,
  "falseY": -9998100,
  "xyUnits": 10000,
  "falseZ": -100000,
  "zUnits": 10000,
  "falseM": -100000,
  "mUnits": 10000
 },
 "singleFusedMapCache": true,
 "tileInfo": {
  "rows": 256,
  "cols": 256,
  "dpi": 96,
  "format": "PNG",
  "compressionQuality": 0,
  "origin": {
   "x": -548576,
   "y": 8388608
  },
  "spatialReference": {
   "wkid": 102139,
   "latestWkid": 3067,
   "xyTolerance": 0.001,
   "zTolerance": 0.001,
   "mTolerance": 0.001,
   "falseX": -5120900,
   "falseY": -9998100,
   "xyUnits": 4.504455473910538E8,
   "falseZ": -100000,
   "zUnits": 10000,
   "falseM": -100000,
   "mUnits": 10000
  },
  "lods": [
   {
    "level": 0,
    "resolution": 8192,
    "scale": 3.096182784E7
   },
   {
    "level": 1,
    "resolution": 4096,
    "scale": 1.548091392E7
   },
   {
    "level": 2,
    "resolution": 2048,
    "scale": 7740456.96
   },
   {
    "level": 3,
    "resolution": 1024,
    "scale": 3870228.48
   },
   {
    "level": 4,
    "resolution": 512,
    "scale": 1935114.24
   },
   {
    "level": 5,
    "resolution": 256,
    "scale": 967557.12
   },
   {
    "level": 6,
    "resolution": 128,
    "scale": 483778.56
   },
   {
    "level": 7,
    "resolution": 64,
    "scale": 241889.28
   },
   {
    "level": 8,
    "resolution": 32,
    "scale": 120944.64
   },
   {
    "level": 9,
    "resolution": 16,
    "scale": 60472.32
   },
   {
    "level": 10,
    "resolution": 8,
    "scale": 30236.16
   },
   {
    "level": 11,
    "resolution": 4,
    "scale": 15118.08
   },
   {
    "level": 12,
    "resolution": 2,
    "scale": 7559.04
   },
   {
    "level": 13,
    "resolution": 1,
    "scale": 3779.52
   },
   {
    "level": 14,
    "resolution": 0.5,
    "scale": 1889.76
   },
   {
    "level": 15,
    "resolution": 0.25,
    "scale": 944.88
   }
  ]
 },
 "storageInfo": {
  "storageFormat": "esriMapCacheStorageModeCompactV2",
  "packetSize": 128
 },
 "initialExtent": {
  "xmin": -734874.7244663378,
  "ymin": 6186598.4,
  "xmax": 1734874.7244663378,
  "ymax": 8493465.6,
  "spatialReference": {
   "wkid": 102139,
   "latestWkid": 3067,
   "xyTolerance": 0.001,
   "zTolerance": 0.001,
   "mTolerance": 0.001,
   "falseX": -5120900,
   "falseY": -9998100,
   "xyUnits": 10000,
   "falseZ": -100000,
   "zUnits": 10000,
   "falseM": -100000,
   "mUnits": 10000
  }
 },
 "fullExtent": {
  "xmin": -548576,
  "ymin": 6291456,
  "xmax": 1548576,
  "ymax": 8388608,
  "spatialReference": {
   "wkid": 102139,
   "latestWkid": 3067,
   "xyTolerance": 0.001,
   "zTolerance": 0.001,
   "mTolerance": 0.001,
   "falseX": -5120900,
   "falseY": -9998100,
   "xyUnits": 10000,
   "falseZ": -100000,
   "zUnits": 10000,
   "falseM": -100000,
   "mUnits": 10000
  }
 },
 "datesInUnknownTimezone": false,
 "units": "esriMeters",
 "supportedImageFormatTypes": "PNG32,PNG24,PNG,JPG,DIB,TIFF,EMF,PS,PDF,GIF,SVG,SVGZ,BMP",
 "documentInfo": {
  "Title": "Ilmakuvat",
  "Author": "",
  "Comments": "",
  "Subject": "",
  "Category": "",
  "Version": "3.3.0",
  "AntialiasingMode": "None",
  "TextAntialiasingMode": "Force",
  "Keywords": ""
 },
 "supportsQueryDomains": true,
 "supportedQueryFormats": "JSON, geoJSON, PBF",
 "referenceScale": 0.0,
 "datumTransformations": [
  {
   "geoTransforms": [
    {
     "wkid": 108227,
     "latestWkid": 108227,
     "transformForward": false,
     "name": "EUREF_FIN_To_WGS_1984"
    }
   ]
  },
  {
   "geoTransforms": [
    {
     "wkid": 108227,
     "latestWkid": 108227,
     "transformForward": true,
     "name": "EUREF_FIN_To_WGS_1984"
    }
   ]
  }
 ],
 "supportsDatumTransformation": true,
 "floorAwareMapProperties": {
  "defaultFloorFilterSettings": {
   "isEnabled": false
  }
 },
 "archivingInfo": {
  "supportsHistoricMoment": false
 },
 "supportsClipping": true,
 "supportsSpatialFilter": true,
 "supportsTimeRelation": true,
 "supportsQueryDataElements": true,
 "mapUnits": {
  "uwkid": 9001
 },
 "maxRecordCount": 1000,
 "maxImageHeight": 4096,
 "maxImageWidth": 4096,
 "minScale": 3.096182784E7,
 "maxScale": 944.88,
 "exportTilesAllowed": false,
 "maxExportTilesCount": 100000,
 "capabilities": "TilesOnly,Tilemap",
 "supportedExtensions": "",
 "serviceItemId": "5c2776c9d1ee4f189490775b497c9f6f"
}
